BEGIN:VCALENDAR
VERSION:2.0
PRODID:-//Ishan Ayurvedic Medical College and Research Centre - ECPv6.7.0//NONSGML v1.0//EN
CALSCALE:GREGORIAN
METHOD:PUBLISH
X-WR-CALNAME:Ishan Ayurvedic Medical College and Research Centre
X-ORIGINAL-URL:https://ishanayurved.com
X-WR-CALDESC:Events for Ishan Ayurvedic Medical College and Research Centre
REFRESH-INTERVAL;VALUE=DURATION:PT1H
X-Robots-Tag:noindex
X-PUBLISHED-TTL:PT1H
BEGIN:VTIMEZONE
TZID:UTC
BEGIN:STANDARD
TZOFFSETFROM:+0000
TZOFFSETTO:+0000
TZNAME:UTC
DTSTART:20220101T000000
END:STANDARD
END:VTIMEZONE
BEGIN:VEVENT
DTSTART;TZID=UTC:20220325T110000
DTEND;TZID=UTC:20220325T130000
DTSTAMP:20260421T221750
CREATED:20230112T101345Z
LAST-MODIFIED:20230112T102701Z
UID:8074-1648206000-1648213200@ishanayurved.com
SUMMARY:Dr. Keshav Chauhan\, Eminent Doctor and Head\, Ayunique Team\, JIVA Ayurveda addressing the students of BAMS
DESCRIPTION:Dr. Keshav Chauhan\, Eminent Doctor\, Academician & International Speaker\, Head\, Ayunique Team\, JIVA Ayurveda addressing the students of BAMS in Transitional Curriculum for BAMS Batch of 2021
URL:https://ishanayurved.com/event/dr-keshav-chauhan-eminent-doctor-and-head-ayunique-team-jiva-ayurveda-addressing-the-students-of-bams/
CATEGORIES:News and Events
ATTACH;FMTTYPE=image/jpeg:https://ishanayurved.com/wp-content/uploads/2023/01/277348141_2119833648174350_545641625955367397_n.jpg
END:VEVENT
BEGIN:VEVENT
DTSTART;TZID=UTC:20220325T140000
DTEND;TZID=UTC:20220325T153000
DTSTAMP:20260421T221750
CREATED:20230112T102532Z
LAST-MODIFIED:20230112T102532Z
UID:8082-1648216800-1648222200@ishanayurved.com
SUMMARY:Dr. Nitin Aggarwal\, Founder\, Bliss Ayurved telling the students about the importance of Entrepreneurial Spirit in Ayurvedic Doctors in Transitional Curriculum for BAMS Batch of 2021.
DESCRIPTION:Dr. Nitin Aggarwal\, Founder\, Bliss Ayurved telling the students about the importance of Entrepreneurial Spirit in Ayurvedic Doctors in Transitional Curriculum for BAMS Batch of 2021. \n  \n     
URL:https://ishanayurved.com/event/dr-nitin-aggarwal-founder-bliss-ayurved-telling-the-students-about-the-importance-of-entrepreneurial-spirit-in-ayurvedic-doctors-in-transitional-curriculum-for-bams-batch-of-2021/
CATEGORIES:News and Events
ATTACH;FMTTYPE=image/jpeg:https://ishanayurved.com/wp-content/uploads/2023/01/277106115_2119834248174290_1815369827349166960_n.jpg
END:VEVENT
END:VCALENDAR