BEGIN:VCALENDAR
VERSION:2.0
PRODID:-//Ishan Ayurvedic Medical College and Research Centre - ECPv6.7.0//NONSGML v1.0//EN
CALSCALE:GREGORIAN
METHOD:PUBLISH
X-ORIGINAL-URL:https://ishanayurved.com
X-WR-CALDESC:Events for Ishan Ayurvedic Medical College and Research Centre
REFRESH-INTERVAL;VALUE=DURATION:PT1H
X-Robots-Tag:noindex
X-PUBLISHED-TTL:PT1H
BEGIN:VTIMEZONE
TZID:UTC
BEGIN:STANDARD
TZOFFSETFROM:+0000
TZOFFSETTO:+0000
TZNAME:UTC
DTSTART:20220101T000000
END:STANDARD
END:VTIMEZONE
BEGIN:VEVENT
DTSTART;TZID=UTC:20220331T140000
DTEND;TZID=UTC:20220331T160000
DTSTAMP:20260421T203751
CREATED:20230113T065116Z
LAST-MODIFIED:20230113T065116Z
UID:8115-1648735200-1648742400@ishanayurved.com
SUMMARY:Dr. Aviral Mathur\, M.D. (Anesthesiology)\, American Heart Association ACLS instructor\, President- Resident Doctors’ Association\, MAMC & LNH addressing the students of BAMS
DESCRIPTION:Dr. Aviral Mathur\, M.D. (Anesthesiology)\, American Heart Association ACLS instructor\, President- Resident Doctors’ Association\, MAMC & LNH addressing the students of BAMS in Transitional Curriculum for BAMS Batch of 2021.
URL:https://ishanayurved.com/event/dr-aviral-mathur-m-d-anesthesiology-american-heart-association-acls-instructor-president-resident-doctors-association-mamc-lnh-addressing-the-students-of-bams/
CATEGORIES:News and Events
ATTACH;FMTTYPE=image/jpeg:https://ishanayurved.com/wp-content/uploads/2023/01/277554710_2123451214479260_3922415188355351717_n.jpg
END:VEVENT
END:VCALENDAR