BEGIN:VCALENDAR
VERSION:2.0
PRODID:-//Ishan Ayurvedic Medical College and Research Centre - ECPv6.7.0//NONSGML v1.0//EN
CALSCALE:GREGORIAN
METHOD:PUBLISH
X-ORIGINAL-URL:https://ishanayurved.com
X-WR-CALDESC:Events for Ishan Ayurvedic Medical College and Research Centre
REFRESH-INTERVAL;VALUE=DURATION:PT1H
X-Robots-Tag:noindex
X-PUBLISHED-TTL:PT1H
BEGIN:VTIMEZONE
TZID:UTC
BEGIN:STANDARD
TZOFFSETFROM:+0000
TZOFFSETTO:+0000
TZNAME:UTC
DTSTART:20220101T000000
END:STANDARD
END:VTIMEZONE
BEGIN:VEVENT
DTSTART;TZID=UTC:20220701T100000
DTEND;TZID=UTC:20220701T130000
DTSTAMP:20260421T160358
CREATED:20230119T070229Z
LAST-MODIFIED:20230119T070412Z
UID:8197-1656669600-1656680400@ishanayurved.com
SUMMARY:"National Doctor's Day" celebration at Ishan Ayurvedic Medical College
DESCRIPTION:Ishan Ayurvedic Medical College & Research Centre celebrate “National Doctor’s Day” at this occasion also distributed Medical Kit to students of BAMS and token of appreciation to Doctors.
URL:https://ishanayurved.com/event/national-doctors-day-celebration-at-ishan-ayurvedic-medical-college/
CATEGORIES:News and Events
ATTACH;FMTTYPE=image/jpeg:https://ishanayurved.com/wp-content/uploads/2023/01/290131352_2194168244074223_4601796090683621072_n.jpg
END:VEVENT
END:VCALENDAR