BEGIN:VCALENDAR
VERSION:2.0
PRODID:-//Ishan Ayurvedic Medical College and Research Centre - ECPv6.7.0//NONSGML v1.0//EN
CALSCALE:GREGORIAN
METHOD:PUBLISH
X-ORIGINAL-URL:https://ishanayurved.com
X-WR-CALDESC:Events for Ishan Ayurvedic Medical College and Research Centre
REFRESH-INTERVAL;VALUE=DURATION:PT1H
X-Robots-Tag:noindex
X-PUBLISHED-TTL:PT1H
BEGIN:VTIMEZONE
TZID:UTC
BEGIN:STANDARD
TZOFFSETFROM:+0000
TZOFFSETTO:+0000
TZNAME:UTC
DTSTART:20220101T000000
END:STANDARD
END:VTIMEZONE
BEGIN:VEVENT
DTSTART;VALUE=DATE:20221012
DTEND;VALUE=DATE:20221013
DTSTAMP:20260421T113707
CREATED:20230120T071727Z
LAST-MODIFIED:20230120T071727Z
UID:8276-1665532800-1665619199@ishanayurved.com
SUMMARY:"Nukad Natak" for "Mental Health Awareness"
DESCRIPTION:Students of BAMS organising “Nukad Natak” for “Mental Health Awareness”
URL:https://ishanayurved.com/event/nukad-natak-for-mental-health-awareness/
CATEGORIES:News and Events
ATTACH;FMTTYPE=image/jpeg:https://ishanayurved.com/wp-content/uploads/2023/01/310825466_469621901855932_8331041060174026400_n.jpg
END:VEVENT
END:VCALENDAR