BEGIN:VCALENDAR
VERSION:2.0
PRODID:-//Ishan Ayurvedic Medical College and Research Centre - ECPv6.7.0//NONSGML v1.0//EN
CALSCALE:GREGORIAN
METHOD:PUBLISH
X-ORIGINAL-URL:https://ishanayurved.com
X-WR-CALDESC:Events for Ishan Ayurvedic Medical College and Research Centre
REFRESH-INTERVAL;VALUE=DURATION:PT1H
X-Robots-Tag:noindex
X-PUBLISHED-TTL:PT1H
BEGIN:VTIMEZONE
TZID:UTC
BEGIN:STANDARD
TZOFFSETFROM:+0000
TZOFFSETTO:+0000
TZNAME:UTC
DTSTART:20220101T000000
END:STANDARD
END:VTIMEZONE
BEGIN:VEVENT
DTSTART;VALUE=DATE:20221101
DTEND;VALUE=DATE:20221102
DTSTAMP:20260419T233110
CREATED:20230119T095557Z
LAST-MODIFIED:20230119T095557Z
UID:8271-1667260800-1667347199@ishanayurved.com
SUMMARY:Students of BAMS won the 2nd position in National Level Intercollegiate Quiz Competition Jyotishmati Season-4\, organized by Dhootpapeshwar
DESCRIPTION:Students of BAMS won the 2nd position in National Level Intercollegiate Quiz Competition Jyotishmati Season-4\, organized by Dhootpapeshwar.
URL:https://ishanayurved.com/event/students-of-bams-won-the-2nd-position-in-national-level-intercollegiate-quiz-competition-jyotishmati-season-4-organized-by-dhootpapeshwar/
CATEGORIES:News and Events
ATTACH;FMTTYPE=image/jpeg:https://ishanayurved.com/wp-content/uploads/2023/01/312492153_487292263422229_8002146814272910831_n.jpg
END:VEVENT
BEGIN:VEVENT
DTSTART;TZID=UTC:20221130T110000
DTEND;TZID=UTC:20221130T130000
DTSTAMP:20260419T233110
CREATED:20221130T110048Z
LAST-MODIFIED:20230105T060133Z
UID:8059-1669806000-1669813200@ishanayurved.com
SUMMARY:Awareness Lecture on Cybercrime and Protection
DESCRIPTION:Ishan Ayurvedic Medical College and Research Centre\, Greater Noida is organised an Awareness Lecture on Cybercrime and Protection. \n*Keynote Speakers- \n1) Ms. Shraiya Dhingra\, Asst. Prof.\, Ishan Institute of Management and Technology \n2) Mr. Nishant Rawat\, Asst. Prof.\, Ishan Institute of Law
URL:https://ishanayurved.com/event/awareness-lecture-on-cybercrime-and-protection/
ATTACH;FMTTYPE=image/jpeg:https://ishanayurved.com/wp-content/uploads/2023/01/315638772_508562644628524_6516082439059468101_n.jpg
END:VEVENT
BEGIN:VEVENT
DTSTART;VALUE=DATE:20221201
DTEND;VALUE=DATE:20221202
DTSTAMP:20260419T233110
CREATED:20221201T110003Z
LAST-MODIFIED:20230119T055207Z
UID:8045-1669852800-1669939199@ishanayurved.com
SUMMARY:Awareness Program on World AIDS Day on 1st Dec. ’22
DESCRIPTION:Ishan Ayurvedic Medical College and Research Centre\, Greater Noida organised an Awareness Program on World AIDS Day. \n*Keynote Speakers- \n1) Prof.(Dr.) Sanghamitra Das\,M.D (Ayurveda)\, Founder & Chairperson\, Ayursure Ayurveda Academy\, New Delhi. \n2) Dr. Debashis Panda\, Chief Medical Officer\, Central Govt. Health Scheme WC (Ay)\, Janakpuri\, New Delhi \n3) Dr. Bharat Krushna Khuntia\, Scientist\, Center for Integrative Medicine and Research\, All India Institute of Medical Sciences\, New Delhi \n   
URL:https://ishanayurved.com/event/awareness-program-on-world-aids-day-on-1st-dec-22/
ATTACH;FMTTYPE=image/jpeg:https://ishanayurved.com/wp-content/uploads/2022/12/World-AIDS-Day-1-12-2022-new.jpg
END:VEVENT
END:VCALENDAR