BEGIN:VCALENDAR
VERSION:2.0
PRODID:-//Ishan Ayurvedic Medical College and Research Centre - ECPv6.7.0//NONSGML v1.0//EN
CALSCALE:GREGORIAN
METHOD:PUBLISH
X-ORIGINAL-URL:https://ishanayurved.com
X-WR-CALDESC:Events for Ishan Ayurvedic Medical College and Research Centre
REFRESH-INTERVAL;VALUE=DURATION:PT1H
X-Robots-Tag:noindex
X-PUBLISHED-TTL:PT1H
BEGIN:VTIMEZONE
TZID:UTC
BEGIN:STANDARD
TZOFFSETFROM:+0000
TZOFFSETTO:+0000
TZNAME:UTC
DTSTART:20220101T000000
END:STANDARD
END:VTIMEZONE
BEGIN:VEVENT
DTSTART;TZID=UTC:20220802T100000
DTEND;TZID=UTC:20220802T110000
DTSTAMP:20260421T130259
CREATED:20230119T071623Z
LAST-MODIFIED:20230119T072038Z
UID:8214-1659434400-1659438000@ishanayurved.com
SUMMARY:"Charak Jayanti" celebration at Ishan Ayurvedic Medical College
DESCRIPTION:Ishan Ayurvedic Medical College & Research Centre celebrate “Charak Jayanti”
URL:https://ishanayurved.com/event/charak-jayanti-celebration-at-ishan-ayurvedic-medical-college/
CATEGORIES:News and Events
ATTACH;FMTTYPE=image/jpeg:https://ishanayurved.com/wp-content/uploads/2023/01/296438204_2223149091176138_7345386103124500624_n.jpg
END:VEVENT
BEGIN:VEVENT
DTSTART;TZID=UTC:20220802T110000
DTEND;TZID=UTC:20220802T130000
DTSTAMP:20260421T130259
CREATED:20230119T072402Z
LAST-MODIFIED:20230119T072402Z
UID:8221-1659438000-1659445200@ishanayurved.com
SUMMARY:Charak Genius Quiz Competition
DESCRIPTION:Ishan Ayurvedic Medical College & Research Centre organised Charak Genius Quiz Competition for students of BAMS.
URL:https://ishanayurved.com/event/charak-genius-quiz-competition/
CATEGORIES:News and Events
ATTACH;FMTTYPE=image/jpeg:https://ishanayurved.com/wp-content/uploads/2023/01/296438204_2223149091176138_7345386103124500624_n.jpg
END:VEVENT
BEGIN:VEVENT
DTSTART;TZID=UTC:20220803T100000
DTEND;TZID=UTC:20220803T140000
DTSTAMP:20260421T130259
CREATED:20230119T073713Z
LAST-MODIFIED:20230119T073713Z
UID:8223-1659520800-1659535200@ishanayurved.com
SUMMARY:"Free Dental Chekup Camp" in collaboration with Sharda School of Dental Science
DESCRIPTION:Ishan Ayurvedic Medical College & Research Centre organised “Free Dental Chekup Camp” in collaboration with Sharda School of Dental Science. \n   
URL:https://ishanayurved.com/event/free-dental-chekup-camp-in-collaboration-with-sharda-school-of-dental-science/
CATEGORIES:News and Events
ATTACH;FMTTYPE=image/jpeg:https://ishanayurved.com/wp-content/uploads/2023/01/296768123_2223874364436944_2905388205515068616_n.jpg
END:VEVENT
BEGIN:VEVENT
DTSTART;TZID=UTC:20220817T140000
DTEND;TZID=UTC:20220817T170000
DTSTAMP:20260421T130259
CREATED:20230119T075259Z
LAST-MODIFIED:20230119T075259Z
UID:8234-1660744800-1660755600@ishanayurved.com
SUMMARY:Awareness Program on “Nasha Mukt Bharat Abhiyan”
DESCRIPTION:Ishan Ayurvedic Medical College & Research Centre organised Pledge\, Rally & Awareness Program on “Nasha Mukt Bharat Abhiyan”
URL:https://ishanayurved.com/event/awareness-program-on-nasha-mukt-bharat-abhiyan/
CATEGORIES:News and Events
ATTACH;FMTTYPE=image/jpeg:https://ishanayurved.com/wp-content/uploads/2023/01/299935805_2235655929925454_7766743873945291275_n.jpg
END:VEVENT
BEGIN:VEVENT
DTSTART;TZID=UTC:20220826T113000
DTEND;TZID=UTC:20220826T130000
DTSTAMP:20260421T130259
CREATED:20230119T090454Z
LAST-MODIFIED:20230119T090454Z
UID:8241-1661513400-1661518800@ishanayurved.com
SUMMARY:Lecture cum Demonstration Method on “Basic life support - The Essentials”.
DESCRIPTION:Lecture cum Demonstration Method by Dr. Aviral Mathur on “Basic life support – The Essentials”.
URL:https://ishanayurved.com/event/lecture-cum-demonstration-method-on-basic-life-support-the-essentials/
CATEGORIES:News and Events
ATTACH;FMTTYPE=image/jpeg:https://ishanayurved.com/wp-content/uploads/2023/01/300800659_2241744419316605_7090164302883048215_n.jpg
END:VEVENT
END:VCALENDAR